BEGIN:VCALENDAR
VERSION:2.0
PRODID:-//VFD Landesverband Berlin - Brandenburg - ECPv6.15.20//NONSGML v1.0//EN
CALSCALE:GREGORIAN
METHOD:PUBLISH
X-WR-CALNAME:VFD Landesverband Berlin - Brandenburg
X-ORIGINAL-URL:https://vfd-bb.org
X-WR-CALDESC:Veranstaltungen für VFD Landesverband Berlin - Brandenburg
REFRESH-INTERVAL;VALUE=DURATION:PT1H
X-Robots-Tag:noindex
X-PUBLISHED-TTL:PT1H
BEGIN:VTIMEZONE
TZID:Europe/Berlin
BEGIN:DAYLIGHT
TZOFFSETFROM:+0100
TZOFFSETTO:+0200
TZNAME:CEST
DTSTART:20230326T010000
END:DAYLIGHT
BEGIN:STANDARD
TZOFFSETFROM:+0200
TZOFFSETTO:+0100
TZNAME:CET
DTSTART:20231029T010000
END:STANDARD
BEGIN:DAYLIGHT
TZOFFSETFROM:+0100
TZOFFSETTO:+0200
TZNAME:CEST
DTSTART:20240331T010000
END:DAYLIGHT
BEGIN:STANDARD
TZOFFSETFROM:+0200
TZOFFSETTO:+0100
TZNAME:CET
DTSTART:20241027T010000
END:STANDARD
BEGIN:DAYLIGHT
TZOFFSETFROM:+0100
TZOFFSETTO:+0200
TZNAME:CEST
DTSTART:20250330T010000
END:DAYLIGHT
BEGIN:STANDARD
TZOFFSETFROM:+0200
TZOFFSETTO:+0100
TZNAME:CET
DTSTART:20251026T010000
END:STANDARD
END:VTIMEZONE
BEGIN:VEVENT
DTSTART;VALUE=DATE:20240905
DTEND;VALUE=DATE:20240909
DTSTAMP:20260419T143438
CREATED:20240420T172858Z
LAST-MODIFIED:20240420T172858Z
UID:6508-1725494400-1725839999@vfd-bb.org
SUMMARY:Einladung zum 7. VFD-Reiterlager
DESCRIPTION:vom 5.-8. September 2024 in Schünow\nSchon Tradition…. \nZum 7. Mal laden wir euch nun schon nach Schünow zum Reiterlager ein. 4 Tage zusammen reiten\, Spaß haben\, lernen\, spielen\, reden\, essen\, chillen…. Dieses Jahr üben wir\, was schon oft Teil der Spiele war: Bogenschießen vom Pferd Hierzu kommt Andrea Seidel aus Sachsen zu uns. \nFür alle\, die noch nicht dabei waren: Der Kayserhof liegt in Schünow\, einem kleinen Dorf im Landkreis Teltow-Fläming. Hier können Feriengäste ab 8 Jahren und Kinder aus Schulen\, Kindergärten und ähnlichen Einrichtungen ihre Freizeit mit Pferden\, Eseln\, Alpaka\, Schafe\, Schweine\, Hunden und Katzen usw. verbringen. Es stehen Zwei- und Vierbettzimmer zur Verfügung. Veranstalter des Reiterlagers ist die VFD Berlin/Brandenburg. Wir freuen uns sehr über eine rege Beteiligung von VFD-Mitgliedern und (noch-)Nichtmitgliedern. \nUnser Programm:\nDonnerstag\, 5.9.2024  \nAnreise ab 14 Uhr\, Paddock aufbauen\, Pferde versorgen\, freuen\, dass wir uns wieder sehen. Wer zeitig da ist\, kann schonmal die Gegend mit dem Pferd erkunden. Wir helfen euch bei der Orientierung. \nFreitag\, 6.9.2024  \nTrainingstag – berittenes Bogenschießen: vormittags ist Bodentraining. Hier zeigt Andrea euch die verschiedenen Techniken der berittenen Bogenschützen. Am Nachmittag steigen wir aufs Pferd und testen auf einer Trainingsbahn unsere Treffsicherheit im Schritt\, Trab und Galopp .http://wanderreiten-sachsen.com/bogenschiessen/ \nSamstag\, den 7.9.2024  \nHeute findet der traditionelle Schünow-Trail statt. Wir reiten rund um Schünow und müssen einige kniffelige und lustige Aufgaben lösen. Abends werden wir den Grill anwerfen. \nSonntag\, den 8.9.2024  \nHeute ist leider schon wieder Abreisetag. Wer möchte\, dreht vorher nochmal eine schöne Runde um Schünow. \nAnsonsten könnt ihr natürlich mit den Trail-Hindernissen üben. \nDanach sind wir hoffentlich voll mit neuen Eindrücken\, hatten viel Spaß und freuen uns auf nächstes Jahr!!! \nAn allen Tagen: Ihr habt einen Keller voller Pferdezeugs? Bringt es mit und wir machen einen Flohmarkt daraus. \nUnterbringung der Pferde:\nFür die Unterbringung der Pferde wird eine Fläche zur Verfügung gestellt\, auf der jeder seinen Paddock aufbauen kann. Bitte Material selber mitbringen (mit Stromgerät) Boxen gibt es nicht. Jeder Teilnehmer ist für die Versorgung selbst verantwortlich. Heu und ein Wasserwagen sind vorhanden. Futtersack und Wassereimer bitte mitbringen! Bitte bei Abreise den Paddockplatz sauber hinterlassen. Schubkarren sind vorhanden\, aber ein eigener „Mistboy“ wäre vorteilhaft. \nUnterbringung der Menschen:\nFür die Unterbringung sind Betten im Haus. Gebt bitte an\, wenn ihr im Haus übernachte wollt. Die Mehrkosten (30 Euro) bezahlt bitte vor Ort direkt an Nicole. Es kann aber auch im Zelt oder Wohnmobil übernachtet werden. Duschen und Toiletten befinden sich im Haus und können auch von den Teilnehmern aus den Zelten und Wohnmobilen genutzt werden. Für die Verpflegung bieten wir Frühstück und Abendbrot an\, sowie Kaffee und Kuchen. Für den Mittagssnack macht sich jeder ein Brötchen beim Frühstück. Es ist nicht möglich\, in näherer Umgebung etwas zu kaufen\, auch eine Gaststätte ist im Ort nicht vorhanden. \nDIE KOSTEN\nPFERD UND REITER:  \nVFD – Mitglieder / 230\,- € \nNicht VFD- Mitglieder 260\,- € \nBEGLEITPERSON OHNE PFERD:  \nVFD – Mitglieder / 130\,- € \nNicht VFD- Mitglieder 160\,- € \nUnterbringung Pferd Paddock (Im Rittpreis enthalten) \nUnterbringung Reiter: \nMehrbettzimmer (plus 30\,00 € zusätzl.\, vor Ort zu bezahlen) \nim Zelt ( im Rittpreis enthalten) \n\nDie Teilnehmerzahl ist auf 20 Teilnehmer begrenzt.  \nAnmeldungen werden in der Reihenfolge des Eingangs der Zahlung der Kursgebühr berücksichtigt.  \nEine Mindestteilnehmerzahl von 15 Personen ist erforderlich. \n\nOnline für diese Veranstaltung anmelden \n\nAusschreibung mit Anmeldung als PDF \n\n  \n 
URL:https://vfd-bb.org/event/einladung-zum-7-vfd-reiterlager/
LOCATION:Kayserhof\, Zur Dorfstraße 16\, Schünow\, Brandenburg\, 15806\, Germany
CATEGORIES:VFD-Veranstaltung
ATTACH;FMTTYPE=image/jpeg:https://vfd-bb.org/wp-content/uploads/2024/04/Reitlager7.jpg
ORGANIZER;CN="VFD-Berlin-Brandenburg":MAILTO:anmeldung@vfd-bb.de
END:VEVENT
BEGIN:VEVENT
DTSTART;TZID=Europe/Berlin:20240921T090000
DTEND;TZID=Europe/Berlin:20240921T170000
DTSTAMP:20260419T143438
CREATED:20240625T082045Z
LAST-MODIFIED:20240625T115908Z
UID:5513-1726909200-1726938000@vfd-bb.org
SUMMARY:Seminar: Verladen und Fahren
DESCRIPTION:Referent: Juliane Walter VFD Rittführer und Wanderreiter \nOrganisator: Juliane Walter \, Tel: 0176-46667132\,  juliane.walter@posteo.de \nSonntag Abend halb neun. Die Nacht ist kühl und voller Nieselregen. Mein Pferd kolikt. Der Tierarzt empfiehlt am Telefon besser gleich in die Klinik zu fahren. Ich habe Angst um mein Pferd\, bin allein im Stall und fühle mich von der gesamten Situation überfordert… Gut\, dass Verladen und Fahren bereits Routine sind! \nInhalte und Ziele\n\nWas muss ich in welcher Reihenfolge tun\, um möglichst sicher zu verladen und zu fahren?\nWie kann ich verladen und fahren üben?\nWelche Übungen bereiten mich und mein Pferd gut auf diese Herausforderungen vor?\nWarum ist Verladen / Fahren für Pferde schwierig?\nWelche Gefahren gibt es? Welche Kardinalfehler gilt es zu vermeiden?\nWelche verschiedenen Ansichten/Varianten gibt es zum Verladen?\nWie hilft Verladetraining\, meine Beziehung und Kommunikation mit dem Pferd zu prüfen und zu verbessern?\n\nDiese\, ähnliche und eure Fragen möchten wir zuerst ohne Pferd besprechen. Anschließend „simulieren“ wir den kompletten Ablauf vom Anhängen über das Verladen und Fahren bis zum Ausladen. \nDie Teilnehmer mit Pferd testen dann\, wie gut sie und ihr Pferd bereits für die Herausforderungen gewappnet sind und verbessern ggf. ihre Voraussetzungen. Schließlich ist das Ziel\, die Pferde auch tatsächlich zu verladen. Wobei natürlich vorher nie klar ist\, ob im Rahmen des Seminars wirklich alle Teilnehmer schon ihre Pferde verladen werden – der Fahrplan ist dann aber klar. Weiterhin wäre mein Wusch\, euch zu vermitteln\, wie ihr den Anhänger kreativ als „spannendes Hindernis“ im Spiel mit eurem Pferd einbauen könnt. \nDiese Veranstaltung wird voraussichtlich von der VFD als Übungsleiterfortbildung mit 8 UE für Teilnehmer mit Pferd und mit 4 für Teilnehmer ohne Pferd anerkannt. \nUnser Gastgeber / Ort\nBianca Rippchen \nEichstädter Weg 27 \n16727 Bärenklau (Oberkrämer) \nBitte sprecht die Versorgung von Fremdpferden mit Bianca ab: 0173-8957887 \nZeitplan\nbis 8.30 Uhr Anreise der Teilnehmer mit Pferd \n09.00 – 17.00 Uhr Seminar inklusive 1 x 30 min und 1 x 60 min Pause (Selbstversorger) \nHinweise / Ausrüstung / Vorkenntnisse\nBringe\, falls vorhanden\, Knotenhalfter\, schweres Seil (ca. 3-4m) und Stick mit String mit. Falls du keine hast\, kannst du dir vor Ort Ausrüstung ausborgen. Die Verladeübungen finden Open-Air statt. Dieses Seminar ist von allen Pferden ab 2 Jahren auch untrainiert und ungeritten zu bewältigen. Das Pferd sollte grundsätzlich halfterführig sein. Ansonsten ist eine gute Kommunikation und Beziehung natürlich von Vorteil. \nKosten\nbei fristgerechter Anmeldung und Zahlung: \nTeilnehmer ohne Pferd: Mitglied 20 Euro / Nicht-Mitglied 30 Euro \nTeilnehmer mit Pferd: Mitglied 55 Euro / Nicht-Mitglied 65 Euro \nIn den Kosten enthalten sind: \n\nParkplatz\, eine Toilette\nNutzung der Außenanlage und der Materialien (inkl. Anhänger) zum Training\nTeilnahme an allen Veranstaltungsteilen & die Möglichkeiten\, Fragen zu stellen 🙂\n\nAnmeldung & Zahlung\n\nDie Teilnehmerzahl ist auf mindestens 2 und maximal 4 Teilnehmer mit Pferd begrenzt. Anmeldungen werden in der Reihenfolge des Eingangs und der vollständigen Zahlung der Teilnahmegebühr berücksichtigt.\nAnmeldung bitte ab sofort bis spätestens zum 6. April 2024 schriftlich mit beiliegendem Formular und gleichzeitiger Überweisung der sofort fälligen Zahlung des Teilnahmebeitrages auf das Konto der: VFD Berlin-Brandenburg\, Volksbank Uckermark\, IBAN DE32 1509 1704 0130 5248 93\nNach Eingang der Anmeldung und vollständigen Zahlung erhaltet ihr von uns eine Teilnahmebestätigung. Bei Überschreiten der Teilnehmerzahl von 4 (mit Pferd) werdet ihr in eine Warteliste aufgenommen.\nDie Zahlung der Teilnahmegebühr wird nur voll erstattet\, wenn die Veranstaltung abgesagt wird oder die minimale Teilnehmerzahl (2 mit Pferd) unterschritten wird. Der Veranstalter behält sich vor\, das Seminar aus wichtigem Grund abzusagen.\nSagt ihr eure Teilnahme bis zum Anmeldeschluss wieder ab\, bekommt ihr 50 % des Rittpreises/Gebühr erstattet. Sagt ihr eure Teilnahme nach Anmeldeschluss ab\, können wir leider keine Kosten erstatten. In beiden Fällen könnt ihr alternativ die gesamten Kosten auf einen Ersatzteilnehmer übertragen. In diesem Fall regelt ihr den finanziellen Ausgleich mit dem Ersatzteilnehmer bitte selbst. Sollte euch dies nicht möglich sein\, berechnen wir für den erhöhten Aufwand 20 Euro Gebühr.\n Aus Sicherheitsgründen dürfen bei diesem Seminar Hunde nicht mitgeführt werden.\n\n\nAusschreibung mit Anmeldung als PDF \n\nOnline für diese Veranstaltung anmelden \n\n  \n 
URL:https://vfd-bb.org/event/seminar-verladen-und-fahren/
LOCATION:Bianca Rippchen\, Eichstädter Weg 27\, Bärenklau (Oberkrämer)\, Brandenburg\, 16727\, Germany
CATEGORIES:VFD-Veranstaltung
ATTACH;FMTTYPE=image/jpeg:https://vfd-bb.org/wp-content/uploads/2024/03/Verladen.jpg
ORGANIZER;CN="VFD-Berlin-Brandenburg":MAILTO:anmeldung@vfd-bb.de
END:VEVENT
BEGIN:VEVENT
DTSTART;TZID=Europe/Berlin:20240928T090000
DTEND;TZID=Europe/Berlin:20240928T170000
DTSTAMP:20260419T143438
CREATED:20240713T081812Z
LAST-MODIFIED:20240910T101534Z
UID:6877-1727514000-1727542800@vfd-bb.org
SUMMARY:Seminar: Outdoor-First Aid Academy
DESCRIPTION:So blöde kann man gar nicht denken\, wie es manchmal läuft… Dann muss man schnell handeln: Sofortmaßnahmen am Unfallort\, sichern\, kommunizieren\, …und dann noch die Pferde…das alles irgendwo im nirgendwo. Damit du weißt\, was zu tun ist\, melde dich hier an!!!! \nDiese Veranstaltung wird von der VFD als Übungsleiterfortbildung mit 9 UE anerkannt. \nDer Kurs ist BG-anerkannt und dient auch als Nachweis für die Fahrerlaubnis. \nReferent: \nUwe Brolle von der Outdoor- First Aid Academy https://www.outdoor-first-aid-academy.com \nOrganisation: Judith Franke \nZeitplan/ sonstiges: \nSamstag\, 28.09.2024 von 9 bis 17.15 Uhr (siehe Anlage) Mittagessen gibt es vor Ort\, dafür bezahlt ihr bitte vor Ort ( ca 5 Euro) Kommt mit robuster Kleidung und Schuhen\, weil der Kurs auch draußen stattfindet \nKosten:  \nErwachsene VFD-Mitglied – 99\,- € \nJugendliche VFD Mitglied – 60\,- € \nErwachsene kein VFD-Mitglied – 110\,- € \nJugendliche kein VFD-Mitglied – 70\,- € \nAnmeldung & Zahlung: \n\nDie Teilnehmerzahl ist auf mindestens 8 und maximal 18 Teilnehmer begrenzt. Anmeldungen werden in der Reihenfolge des Eingangs und der vollständigen Zahlung der Teilnahmegebühr berücksichtigt.\nAnmeldung bitte ab sofort bis spätestens zum 14.9. 2024 schriftlich mit beiliegendem Formular und gleichzeitiger Überweisung der sofort fälligen Zahlung des Teilnahmebeitrages auf das Konto der: VFD Berlin-Brandenburg\, Volksbank Uckermark\, IBAN DE32 1509 1704 0130 5248 93 (Verwendungszweck: First Aid Academy)\nNach Eingang der Anmeldung und vollständigen Zahlung erhaltet ihr von uns eine Teilnahmebestätigung. Bei Überschreiten der Teilnehmerzahl von 18 werdet ihr in eine Warteliste aufgenommen.\nDie Zahlung der Teilnahmegebühr wird nur voll erstattet\, wenn die Veranstaltung abgesagt wird oder die minimale Teilnehmerzahl (8) unterschritten wird. Der Veranstalter behält sich vor\, das Seminar aus wichtigem Grund abzusagen.\nSagt ihr eure Teilnahme bis zum Anmeldeschluss wieder ab\, bekommt ihr 50 % des Rittpreises/Gebühr erstattet. Sagt ihr eure Teilnahme nach Anmeldeschluss ab\, können wir leider keine Kosten erstatten. In beiden Fällen könnt ihr alternativ die gesamten Kosten auf einen Ersatzteilnehmer übertragen. In diesem Fall regelt ihr den finanziellen Ausgleich mit dem Ersatzteilnehmer bitte selbst. Sollte euch dies nicht möglich sein\, berechnen wir für den erhöhten Aufwand 20 Euro Gebühr.\n\n\nOnline für diese Veranstaltung anmelden \n\nAusschreibung mit Anmeldung als PDF \n\n  \n 
URL:https://vfd-bb.org/event/seminar-outdoor-first-aid-academy/
LOCATION:Kayserhof\, Zur Dorfstraße 16\, Schünow\, Brandenburg\, 15806\, Germany
CATEGORIES:VFD-Veranstaltung
ATTACH;FMTTYPE=image/jpeg:https://vfd-bb.org/wp-content/uploads/2024/07/erste-hilfe-outdoor.jpg
ORGANIZER;CN="VFD-Berlin-Brandenburg":MAILTO:anmeldung@vfd-bb.de
END:VEVENT
END:VCALENDAR