BEGIN:VCALENDAR
VERSION:2.0
PRODID:-//VFD Landesverband Berlin - Brandenburg - ECPv6.15.20//NONSGML v1.0//EN
CALSCALE:GREGORIAN
METHOD:PUBLISH
X-ORIGINAL-URL:https://vfd-bb.org
X-WR-CALDESC:Veranstaltungen für VFD Landesverband Berlin - Brandenburg
REFRESH-INTERVAL;VALUE=DURATION:PT1H
X-Robots-Tag:noindex
X-PUBLISHED-TTL:PT1H
BEGIN:VTIMEZONE
TZID:Europe/Berlin
BEGIN:DAYLIGHT
TZOFFSETFROM:+0100
TZOFFSETTO:+0200
TZNAME:CEST
DTSTART:20230326T010000
END:DAYLIGHT
BEGIN:STANDARD
TZOFFSETFROM:+0200
TZOFFSETTO:+0100
TZNAME:CET
DTSTART:20231029T010000
END:STANDARD
BEGIN:DAYLIGHT
TZOFFSETFROM:+0100
TZOFFSETTO:+0200
TZNAME:CEST
DTSTART:20240331T010000
END:DAYLIGHT
BEGIN:STANDARD
TZOFFSETFROM:+0200
TZOFFSETTO:+0100
TZNAME:CET
DTSTART:20241027T010000
END:STANDARD
BEGIN:DAYLIGHT
TZOFFSETFROM:+0100
TZOFFSETTO:+0200
TZNAME:CEST
DTSTART:20250330T010000
END:DAYLIGHT
BEGIN:STANDARD
TZOFFSETFROM:+0200
TZOFFSETTO:+0100
TZNAME:CET
DTSTART:20251026T010000
END:STANDARD
END:VTIMEZONE
BEGIN:VEVENT
DTSTART;TZID=Europe/Berlin:20241013T100000
DTEND;TZID=Europe/Berlin:20241013T150000
DTSTAMP:20260419T181047
CREATED:20240726T180304Z
LAST-MODIFIED:20240812T135924Z
UID:6941-1728813600-1728831600@vfd-bb.org
SUMMARY:Sattelcodierung auf dem Hof der Pferdepension-Schumacher
DESCRIPTION:Am Sonntag\, den 13.10.2019 lädt die Vereinigung der Freizeitreiter und -fahrer in Deutschland e.V.\, Landesverband Berlin-Brandenburg\, in der Zeit von 10:00 – 15:00 Uhr zu einer Sattelcodierung auf den Hof der Pferdepension Schumacher\, Wensickendorfer Straße 22\, in 16515 Oranienburg OT Zehlendorf ein. \nWas hat das nun mit dieser Codierung auf sich? Bei der Codierung wird der Sattel mit einem sogenannter EIN-Code\, der sich aus den Daten des Besitzers zusammensetzt und so auch bei Fahrrädern zum Einsatz kommt\, versehen\, so dass bei Verlust oder Diebstahl\, der Sattel aufgrund der EIN-Nummer dem rechtmäßigen Besitzer zugeordnet werden kann. Darüber hinaus kann bei Diebstahl die EIN-Nummer von der Polizei in das Fahndungssystem eingegeben werden und bei auffinden des Sattels kann dieser dem rechtmäßigen Eigentümer zurückgegeben werden. \nDie eigentliche Codierung erfolgt durch Herrn Schumacher vom LV Berlin-Brandenburg mittels eines sogenannten Punziereisen – hierbei wird das Leder des Sattels mittels des generierten EIN-Zahlencodes dauerhaft gekennzeichnet. Zusätzlich erhält jeder Sattelbesitzer für seinen Sattel einen individuellen VFD-Sattelpass mit Bild\, Beschreibung des Sattels\, seiner Adresse und der entsprechenden Codenummer. \nFür VFD-Mitglieder ist dieser Service kostenfrei. Nichtmitglieder zahlen je codierten Sattel 40.- €\, dieser Betrag ist ausnahmslos in bar am Tag der Codierung zu bezahlen. Die Gebühr entfällt\, wenn am Codierungstag ein Mitgliedsantrag für die VFD unterschrieben wird. \nBei Interesse an der Sattelcodierung müssen sich Interessierte bis zum 3. Oktober 2024 per E-Mail (ralf.schumacher@vfd-bb.de) anmelden und bekommen dann einen Datenerfassungsbogen zugesandt. Alternativ kann der Erfassungsbogen auch hier heruntergeladen werden. Dieser muss bis zum 10.10.2024 vollständig ausgefüllt und Unterschrieben zur Vorbereitung für die Codierung an o.a. E-Mailadresse zurückgesandt werden. Nicht rechtzeitig zurück gesendete Datenerfassungsbögen werden nicht berücksichtigt und es findet keine Codierung statt! \n 
URL:https://vfd-bb.org/event/sattelcodierung-auf-dem-hof-der-pferdepension-schumacher/
LOCATION:Pferdepension-Schumacher\, Wensickendorfer Straße 22\, Oranienburg OT Zehlendorf\, Brandenburg\, 16515\, Germany
CATEGORIES:VFD-Veranstaltung
ATTACH;FMTTYPE=image/jpeg:https://vfd-bb.org/wp-content/uploads/2024/02/Beitragsbild-veranstaltung.jpg
ORGANIZER;CN="VFD-Berlin-Brandenburg":MAILTO:anmeldung@vfd-bb.de
END:VEVENT
END:VCALENDAR