BEGIN:VCALENDAR
VERSION:2.0
PRODID:-//VFD Landesverband Berlin - Brandenburg - ECPv6.15.20//NONSGML v1.0//EN
CALSCALE:GREGORIAN
METHOD:PUBLISH
X-ORIGINAL-URL:https://vfd-bb.org
X-WR-CALDESC:Veranstaltungen für VFD Landesverband Berlin - Brandenburg
REFRESH-INTERVAL;VALUE=DURATION:PT1H
X-Robots-Tag:noindex
X-PUBLISHED-TTL:PT1H
BEGIN:VTIMEZONE
TZID:Europe/Berlin
BEGIN:DAYLIGHT
TZOFFSETFROM:+0100
TZOFFSETTO:+0200
TZNAME:CEST
DTSTART:20230326T010000
END:DAYLIGHT
BEGIN:STANDARD
TZOFFSETFROM:+0200
TZOFFSETTO:+0100
TZNAME:CET
DTSTART:20231029T010000
END:STANDARD
BEGIN:DAYLIGHT
TZOFFSETFROM:+0100
TZOFFSETTO:+0200
TZNAME:CEST
DTSTART:20240331T010000
END:DAYLIGHT
BEGIN:STANDARD
TZOFFSETFROM:+0200
TZOFFSETTO:+0100
TZNAME:CET
DTSTART:20241027T010000
END:STANDARD
BEGIN:DAYLIGHT
TZOFFSETFROM:+0100
TZOFFSETTO:+0200
TZNAME:CEST
DTSTART:20250330T010000
END:DAYLIGHT
BEGIN:STANDARD
TZOFFSETFROM:+0200
TZOFFSETTO:+0100
TZNAME:CET
DTSTART:20251026T010000
END:STANDARD
END:VTIMEZONE
BEGIN:VEVENT
DTSTART;VALUE=DATE:20241004
DTEND;VALUE=DATE:20241007
DTSTAMP:20260419T162247
CREATED:20240721T093358Z
LAST-MODIFIED:20240721T093358Z
UID:6929-1728000000-1728259199@vfd-bb.org
SUMMARY:Ausschreibung 2. Sternritt Märkische Schweiz
DESCRIPTION:vom 04.-06. Oktober 2024\nLiebe Freizeit-\, Wanderreiter\, herzlich willkommen zum II. Sternritt in der Märkischen Schweiz!  \nEin Wochenende unterwegs mit eigenem Pferd und Gleichgesinnten\, rund um Ihlow herum\, zu sehr freundlichen kleinen Höfen\, die unseren Ritt durch die Natur mit Ihrem Charme untermalen werden. Unsere Tour führt uns auf zahlreichen Wegen durch eine abwechslungsreiche Landschaft. Der Naturpark Märkische Schweiz umfasst 205 Quadratkilometer und ist somit der kleinste\, jedoch älteste des Landes Brandenburg. Auf der kleinen Fläche sind fast alle Landschaftsformen der Mark Brandenburg aufzuspüren: Seen und Bäche\, Laubwälder\, Schluchten und Täler\, Moore und Fischteiche\, Sölle und Quellen\, Felder\, Wiesen\, Hecken und eine kleine Sanddüne bei Münchehofe\, welche wir unter anderem bewundern werden. \nWir treffen uns am 04.10.24 bei unserer Gastgeberin Dunja Osiander-Hein\, die eine Hippolini Ponyreitschule betreibt. Dunja stellt uns eine Wiese zum Aufbau unserer Paddocks zur Verfügung. Entlang der sehr wenig befahrenen Kopfsteinpflasterstraße können wir unsere Gespanne parken. Wer im Bulli oder Auto schlafen möchte\, kann in Absprache mit auf die Wiese fahren. Auch das Zelten auf der Wiese ist möglich. Ihr Mann Matthias Hein stellt uns in der „Alten Feuerwehr“ einen Gemeinschaftsraum/Küche\, sowie Toiletten und Duschen zur Verfügung. Hier werden wir unsere gemeinsamen Mahlzeiten einnehmen. Zu diesem Gebäude gehören auch zwei Zimmer\, in denen bis zu 2-3 Personen übernachten können. Die Zimmer sind sehr einfach mit je 2 Betten bzw. Matratzen ausgestattet. Für etwas mehr Komfort gibt es im Ort verschiedene Anbieter für Ferienwohnungen\, die bei entsprechend früher (!) Buchung zur Verfügung stehen. Entsprechende Kontakte findet Ihr im Anhang. \n DER RITT/DAS PROGRAMM \n Wenn am Freitag\, den 4.10.24 alle beisammen sind und ihre Pferde versorgt haben\, bietet uns Familie Osiander-Hein Kaffee und Kuchen oder eine Suppe an (je 5\,00 Euro vor Ort zu bezahlen).  \nEin kurzer Gang durch das Dorf Ihlow führt uns an der wunderschönen Kirche und dem Dorfteich vorbei zur Alten Feuerwehr. Hier steht uns ein großer Gastraum mit Küche\, Tresen und Sitzmöglichkeiten zur Verfügung\, sowie Duschen und Toiletten. Darüber befinden sich auch die besagten Zimmer\, welche bei mir direkt anzufragen sind. Hier gibt es auch Frühstück und Abendbrot.  \nSo gestärkt satteln wir unsere Pferde für einen Rundritt von ca 18 km am Batzlower Mühlenfließ entlang\, den Batzlower Teichen über den Affenberg nach Batzlow vorbei an der Schaufilzerei auf dem Urticahof (eventuell kurze Führung möglich) und zurück.  \nAngekommen in Ihlow werden wir den Abend gemütlich ausklingen lassen mit einem leckeren Abendbrot und eventuell Feuerschale und Lagerromantik (je nach Wetter). Wir bekommen Besuch von einem Mitarbeiter der Naturparkverwaltung\, er erzählt uns interessantes über die Märkische Schweiz und zu unseren Rittstrecken.  \nDer Sonntag\, den 06.10.24 beginnt nach dem Frühstück mit einem kurzen Verdauungsspaziergang zum Atelier Zachariashof mit seinem wunderschönen Schaugarten\, auch die kleine Kunsthalle von Udo Hagedorn und das Antiquariat in der Scheune können besichtigt werden. Danach ist ein Rundritt entlang des Sophienfließ nach Grunow geplant\, der ca. 12-15 km lang sein wird.  \nWieder in Ihlow angekommen\, stellen wir die Pferde noch einmal in ihre Paddocks und lassen uns zum Abschluss auf dem Biohof kulinarisch bewirten.  \nDa wir in keiner offiziellen Gaststätte einkehren werden (außer Biohof Ihlow)\, schlage ich vor\, für nette Getränke selber zu sorgen… (bitte bei Anreise mitbringen)  \nWasser\, Kaffee\, Tee bekommen wir vor Ort.  \nKaffee/Kuchen und /oder Suppe müssen bitte jeweils selbst bei Dunja oder Matthias bezahlt werden\, sowie die Zimmer. Am Samstag ist ein Mittagessen per Umlage (25\,00 € incl. Getränke per Umlage gebucht – bitte bei Heike Müller am Samstag vorab abgeben)  \nRitt Organisation\nHeike Müller  Telefon: 0179-2018550 E-Mail:hebamme-heike-mueller@gmx.de \nAUSRÜSTUNG \nGutsitzender Sattel und Zaumzeug\, Halfter / Halsriemen und Anbindestrick\, Putzzeug und Hufräumer\, Futter- und Wassereimer\, E-Zaun-Paddock\, ggf. Regendecke. Trotz bestmöglicher pferdefreundlicher Wege Wahl empfehlen wir Hufschutz.  \nNotapotheke\, Zelt\, Schlafsack\, Isomatte\, Trinkbecher\, Musikinstrumente\, Badesachen\, Regen- und Sonnenschutz\, Kamera\, feste Schuhe\, in denen ihr gut laufen könnt.  \nDiese Aufzählung ist nur als Gedankenstütze zu verstehen und nicht vollständig. Falls ihr unsicher seid\, was ihr noch mitbringen solltet\, fragt uns.  \nANREISE \nIhr reist individuell an am  \nFreitag den 04.10.2024 zwischen 10.00-12.00 Uhr an  \nUnsere Gastgeber: Ponyhof Ihlow\, 15377 Oberbarnim (OT Ihlow) \, Ihlower Ring 13  \nABREISE \nIhr reist individuell am Sonntag\, den 06.10.2023 ab etwa 16:00 Uhr ab.  \nZusätzliche Gastgeber für eigenständig zu buchende Zimmer:  \n\nBiohof Ihlow\, Ihlower Ring 14\, Marion Rothschild 0173-8445216\nHagedorn Ferienwohnung 0173-6215382\nIshlar Smolny Ferienwohnung 0174-9811526\nFamilie Bühlow Ferien/Monteurwohnung 033437-89624\n\nPreis für Matratze im Zimmer 15€  \nDIE KOSTEN \nPFERD UND REITER:  \nVFD – Mitglieder / 195\,00 € \nVFD – Mitglieder bis 18 Jahre 175\,00 € \nNicht VFD- Mitglieder 235\,00 € \nNicht – VFD- Mitglieder bis 18 Jahre 215\,00 € \nBEGLEITPERSON OHNE PFERD:  \nVFD – Mitglieder / 165\,00 € \nVFD – Mitglieder / bis 18 Jahre 145\,00 € \nNicht VFD- Mitglieder 205\,00 € \nNicht- VFD – Mitglieder bis 18 Jahre 185\,00 € \nDarin sind enthalten:  \n\nPlatz für Zelt und E-Zaun-Paddock (keine Boxen) – jeder äppelt bitte eigenständig ab\nHeu\, Wasser für je 1 Pferd pro Reiter\nNutzung sanitärer Einrichtungen\n2 x Frühstück und Abendessen\nRittführung für die 3 Tage\n\nANMELDUNG & ANZAHLUNG \n\nDie Teilnehmerzahl ist auf 15 Reiter/Teilnehmer begrenzt. Anmeldungen werden in der Reihenfolge des Eingangs und der vollständigen Zahlung der Teilnahmegebühr berücksichtigt.\nAnmeldung bitte ab sofort bis spätestens zum 24.09.2024 schriftlich mit beiliegendem Formular oder online unter: https://vfd-bb.org/anmeldeformular-fuer-vfd-veranstaltungen/ und gleichzeitiger Überweisung der sofort fälligen Zahlung des Teilnahmebeitrages aufs Konto der: VFD Berlin-Brandenburg\, Volksbank Uckermark\, IBAN DE32 1509 1704 0130 5248 93 (Verwendungszweck: Namen\, II. Märkische Sternritt angeben\, erst nach Zahlungseingang ist die Anmeldung gültig)\nNach Eingang der Anmeldung und vollständigen Zahlung erhaltet ihr von uns eine Teilnahmebestätigung. Bei Überschreiten der Teilnehmerzahl von 15 werdet ihr in eine Warteliste aufgenommen.\nDie Zahlung der Teilnahmegebühr wird nur zurückgezahlt\, wenn die Veranstaltung abgesagt wird oder die minimale Teilnehmerzahl unterschritten wird. Der Veranstalter behält sich vor\, den Wanderritt aus wichtigem Grund abzusagen oder ggf. die Strecke z.B. bei Waldbrandgefahr zu ändern.\nSagt ihr eure Teilnahme bis zum Anmeldeschluss wieder ab\, bekommt ihr 50 % des Rittpreises/Gebühr erstattet. Sagt ihr eure Teilnahme nach Anmeldeschluss ab\, können wir leider keine Kosten erstatten. In beiden Fällen könnt ihr alternativ die gesamten Kosten auf einen Ersatzteilnehmer übertragen. In diesem Fall regelt ihr den finanziellen Ausgleich mit dem Ersatzteilnehmer bitte selbst. Sollte euch dies nicht möglich sein\, berechnen wir für den erhöhten Aufwand 20 Euro Gebühr.\n\n\nOnline für diese Veranstaltung anmelden \n\nAusschreibung mit Anmeldung als PDF \n 
URL:https://vfd-bb.org/event/ausschreibung-2-sternritt-maerkische-schweiz/
LOCATION:Ponyhof Ihlow\, Ihlower Ring 13\, Oberbarnim (OT Ihlow)\, Brandenburg\, 15377\, Germany
CATEGORIES:VFD-Veranstaltung
ATTACH;FMTTYPE=image/jpeg:https://vfd-bb.org/wp-content/uploads/2024/07/MaerkischerStern.jpg
ORGANIZER;CN="VFD-Berlin-Brandenburg":MAILTO:anmeldung@vfd-bb.de
END:VEVENT
END:VCALENDAR